BEGIN:VCALENDAR
VERSION:2.0
PRODID:-//AJ Billig //NONSGML Events //EN
CALSCALE:GREGORIAN
BEGIN:VEVENT
DTSTART:20230614T163000Z
DTEND:20230614T163000Z
UID:97239
DTSTAMP:20230614T163000Z
LOCATION:5527 and 5529-5531 Ritter Avenue\,Baltimore\,MD\,21206
SUMMARY: A.J. Billig & Company auction:   "Frankford-Overlea"
ORGANIZER: A.J. Billig & Company auction 
DESCRIPTION: 4 - Townhouse Lots and 3-Bedroom Bungalow  2023-06-12 00:00:00 - 2023-06-14 12:30:00
URL;VALUE=URI:https://ajbillig.com/?p=97239
END:VEVENT
END:VCALENDAR
