BEGIN:VCALENDAR
VERSION:2.0
PRODID:-//AJ Billig //NONSGML Events //EN
CALSCALE:GREGORIAN
BEGIN:VEVENT
DTSTART:20170228T160000Z
DTEND:20170228T160000Z
UID:59435
DTSTAMP:20170228T160000Z
LOCATION:5100 Falls Road\,Baltimore\,MD\,21210
SUMMARY: A.J. Billig & Company auction:   Absolute Above $10,000 - 17 Baltimore City Homes
ORGANIZER: A.J. Billig & Company auction 
DESCRIPTION: Partially Renovated - Need Completion  2017-02-28 10:50:00 - 2017-02-28 11:00:00
URL;VALUE=URI:https://ajbillig.com/?p=59435
END:VEVENT
END:VCALENDAR
