BEGIN:VCALENDAR
VERSION:2.0
PRODID:-//AJ Billig //NONSGML Events //EN
CALSCALE:GREGORIAN
BEGIN:VEVENT
DTSTART:20170309T190000Z
DTEND:20170309T190000Z
UID:59272
DTSTAMP:20170309T190000Z
LOCATION:1108 S. East Avenue\,Baltimore\,MD\,21224
SUMMARY: A.J. Billig & Company auction:   "Canton"
ORGANIZER: A.J. Billig & Company auction 
DESCRIPTION: Three Story Townhome
4 Bedrooms, 2.5 Baths, Roof Deck  2017-03-09 13:50:00 - 2017-03-09 14:00:00
URL;VALUE=URI:https://ajbillig.com/?p=59272
END:VEVENT
END:VCALENDAR
