BEGIN:VCALENDAR
VERSION:2.0
PRODID:-//AJ Billig //NONSGML Events //EN
CALSCALE:GREGORIAN
BEGIN:VEVENT
DTSTART:20170411T170000Z
DTEND:20170411T170000Z
UID:58950
DTSTAMP:20170411T170000Z
LOCATION:4911 Saint Gemma Road\,Baltimore\,MD\,21229
SUMMARY: A.J. Billig & Company auction:   "West Hills"
ORGANIZER: A.J. Billig & Company auction 
DESCRIPTION: Two Story Townhome  2017-04-11 11:50:00 - 2017-04-11 12:00:00
URL;VALUE=URI:https://ajbillig.com/?p=58950
END:VEVENT
END:VCALENDAR
