BEGIN:VCALENDAR
VERSION:2.0
PRODID:-//AJ Billig //NONSGML Events //EN
CALSCALE:GREGORIAN
BEGIN:VEVENT
DTSTART:20170221T160000Z
DTEND:20170221T160000Z
UID:58771
DTSTAMP:20170221T160000Z
LOCATION:902 Montpelier Street\,Baltimore\,MD\,21218
SUMMARY: A.J. Billig & Company auction:   "Better Waverly" - Receiver's Auction
ORGANIZER: A.J. Billig & Company auction 
DESCRIPTION: Two story brick semi-detached home. - Requiring Renovation  2017-02-21 10:50:00 - 2017-02-21 11:00:00
URL;VALUE=URI:https://ajbillig.com/?p=58771
END:VEVENT
END:VCALENDAR
