BEGIN:VCALENDAR
VERSION:2.0
PRODID:-//AJ Billig //NONSGML Events //EN
CALSCALE:GREGORIAN
BEGIN:VEVENT
DTSTART:20170511T190000Z
DTEND:20170511T190000Z
UID:58667
DTSTAMP:20170511T190000Z
LOCATION:2421 Harkins Road\,White Hall\,MD\,21161
SUMMARY: A.J. Billig & Company auction:   "White Hall"
ORGANIZER: A.J. Billig & Company auction 
DESCRIPTION: 10.17 +/- Acre Residential Lot
With Well & Mobile Home  2017-05-11 13:50:00 - 2017-05-11 14:00:00
URL;VALUE=URI:https://ajbillig.com/?p=58667
END:VEVENT
END:VCALENDAR
