BEGIN:VCALENDAR
VERSION:2.0
PRODID:-//AJ Billig //NONSGML Events //EN
CALSCALE:GREGORIAN
BEGIN:VEVENT
DTSTART:20170601T170000Z
DTEND:20170601T170000Z
UID:58608
DTSTAMP:20170601T170000Z
LOCATION:1800 N. Gay Street\,Baltimore\,MD\,21213
SUMMARY: A.J. Billig & Company auction:   "East Baltimore"
ORGANIZER: A.J. Billig & Company auction 
DESCRIPTION: COMMERCIAL BUILDING
Zoned B-3-2  2017-06-01 11:50:00 - 2017-06-01 12:00:00
URL;VALUE=URI:https://ajbillig.com/?p=58608
END:VEVENT
END:VCALENDAR
