BEGIN:VCALENDAR
VERSION:2.0
PRODID:-//AJ Billig //NONSGML Events //EN
CALSCALE:GREGORIAN
BEGIN:VEVENT
DTSTART:20170425T160000Z
DTEND:20170425T160000Z
UID:58340
DTSTAMP:20170425T160000Z
LOCATION:3018 Rosalind Avenue\,Baltimore\,MD\,21215
SUMMARY: A.J. Billig & Company auction:   "Cylburn" - Receiver's Auction
ORGANIZER: A.J. Billig & Company auction 
DESCRIPTION: Two story cottage with covered porchfront. - Requiring Renovation  2017-04-25 10:50:00 - 2017-04-25 11:00:00
URL;VALUE=URI:https://ajbillig.com/?p=58340
END:VEVENT
END:VCALENDAR
