BEGIN:VCALENDAR
VERSION:2.0
PRODID:-//AJ Billig //NONSGML Events //EN
CALSCALE:GREGORIAN
BEGIN:VEVENT
DTSTART:20170607T160000Z
DTEND:20170607T160000Z
UID:58279
DTSTAMP:20170607T160000Z
LOCATION:3190 Daisy Road\,Woodbine\,MD\,21797
SUMMARY: A.J. Billig & Company auction:   Buy It Now: $150,000 - "Howard County"
ORGANIZER: A.J. Billig & Company auction 
DESCRIPTION: One Acre Homesite
Private Setting with Well  2017-06-07 10:50:00 - 2017-06-07 11:00:00
URL;VALUE=URI:https://ajbillig.com/?p=58279
END:VEVENT
END:VCALENDAR
