BEGIN:VCALENDAR
VERSION:2.0
PRODID:-//AJ Billig //NONSGML Events //EN
CALSCALE:GREGORIAN
BEGIN:VEVENT
DTSTART:20170627T180000Z
DTEND:20170627T180000Z
UID:58120
DTSTAMP:20170627T180000Z
LOCATION:Beech Road\,Temple Hills\,MD\,20748
SUMMARY: A.J. Billig & Company auction:   "Temple Hills"
ORGANIZER: A.J. Billig & Company auction 
DESCRIPTION: 4.91 +/- ACRE COMMERCIAL LOT
Zoned CO  2017-06-27 12:50:00 - 2017-06-27 13:00:00
URL;VALUE=URI:https://ajbillig.com/?p=58120
END:VEVENT
END:VCALENDAR
