BEGIN:VCALENDAR
VERSION:2.0
PRODID:-//AJ Billig //NONSGML Events //EN
CALSCALE:GREGORIAN
BEGIN:VEVENT
DTSTART:20170711T200000Z
DTEND:20170711T200000Z
UID:57924
DTSTAMP:20170711T200000Z
LOCATION:120 Carver Road\,Dundalk\,MD\,21222
SUMMARY: A.J. Billig & Company auction:   "Dundalk - Carver Manor"
ORGANIZER: A.J. Billig & Company auction 
DESCRIPTION: Two Story Brick Townhome  2017-07-11 14:50:00 - 2017-07-11 15:00:00
URL;VALUE=URI:https://ajbillig.com/?p=57924
END:VEVENT
END:VCALENDAR
