BEGIN:VCALENDAR
VERSION:2.0
PRODID:-//AJ Billig //NONSGML Events //EN
CALSCALE:GREGORIAN
BEGIN:VEVENT
DTSTART:20170620T160000Z
DTEND:20170620T160000Z
UID:57755
DTSTAMP:20170620T160000Z
LOCATION:3014 Ascension Street\,Baltimore\,MD\,21225
SUMMARY: A.J. Billig & Company auction:   "Cherry Hill" - Receiver's Auction
ORGANIZER: A.J. Billig & Company auction 
DESCRIPTION: Two story brick inside-group townhome. - Requiring Renovation  2017-06-20 10:50:00 - 2017-06-20 11:00:00
URL;VALUE=URI:https://ajbillig.com/?p=57755
END:VEVENT
END:VCALENDAR
