BEGIN:VCALENDAR
VERSION:2.0
PRODID:-//AJ Billig //NONSGML Events //EN
CALSCALE:GREGORIAN
BEGIN:VEVENT
DTSTART:20170620T160000Z
DTEND:20170620T160000Z
UID:57744
DTSTAMP:20170620T160000Z
LOCATION:2329 Barclay Street\,Baltimore\,MD\,21218
SUMMARY: A.J. Billig & Company auction:   "Barclay" - Receiver's Auction
ORGANIZER: A.J. Billig & Company auction 
DESCRIPTION: Three story stone front inside-group townhome. - Requiring Renovation  2017-06-20 10:50:00 - 2017-06-20 11:00:00
URL;VALUE=URI:https://ajbillig.com/?p=57744
END:VEVENT
END:VCALENDAR
