BEGIN:VCALENDAR
VERSION:2.0
PRODID:-//AJ Billig //NONSGML Events //EN
CALSCALE:GREGORIAN
BEGIN:VEVENT
DTSTART:20171026T160000Z
DTEND:20171026T160000Z
UID:57580
DTSTAMP:20171026T160000Z
LOCATION:10811 Liberty Road\,Randallstown\,MD\,21133
SUMMARY: A.J. Billig & Company auction:   "Randallstown"
ORGANIZER: A.J. Billig & Company auction 
DESCRIPTION: Brick Rancher
3 Bedrooms, 3 Baths, Garage
On 1.7+/- Acre Lot  2017-10-26 10:50:00 - 2017-10-26 11:00:00
URL;VALUE=URI:https://ajbillig.com/?p=57580
END:VEVENT
END:VCALENDAR
