BEGIN:VCALENDAR
VERSION:2.0
PRODID:-//AJ Billig //NONSGML Events //EN
CALSCALE:GREGORIAN
BEGIN:VEVENT
DTSTART:20171011T160000Z
DTEND:20171011T160000Z
UID:57163
DTSTAMP:20171011T160000Z
LOCATION:1219 Glyndon Avenue\,Baltimore\,MD\,21223
SUMMARY: A.J. Billig & Company auction:   "Washington Village - Pigtown"
ORGANIZER: A.J. Billig & Company auction 
DESCRIPTION: Renovated Two Story Townhome
2 Bedrooms & 2.5 Baths  2017-10-11 10:50:00 - 2017-10-11 11:00:00
URL;VALUE=URI:https://ajbillig.com/?p=57163
END:VEVENT
END:VCALENDAR
