BEGIN:VCALENDAR
VERSION:2.0
PRODID:-//AJ Billig //NONSGML Events //EN
CALSCALE:GREGORIAN
BEGIN:VEVENT
DTSTART:20171010T190000Z
DTEND:20171010T190000Z
UID:57135
DTSTAMP:20171010T190000Z
LOCATION:6408 Clearspring Road\,Baltimore\,MD\,21212
SUMMARY: A.J. Billig & Company auction:   "Lake Walker"
ORGANIZER: A.J. Billig & Company auction 
DESCRIPTION: Buy It Now: $185,000
Attractive, 4 Bedroom Porchfront Cottage  2017-10-10 13:50:00 - 2017-10-10 14:00:00
URL;VALUE=URI:https://ajbillig.com/?p=57135
END:VEVENT
END:VCALENDAR
