BEGIN:VCALENDAR
VERSION:2.0
PRODID:-//AJ Billig //NONSGML Events //EN
CALSCALE:GREGORIAN
BEGIN:VEVENT
DTSTART:20171116T165000Z
DTEND:20171116T165000Z
UID:56960
DTSTAMP:20171116T165000Z
LOCATION:2731 Uhler Avenue\,Baltimore\,MD\,21215
SUMMARY: A.J. Billig & Company auction:   "Levindale"
ORGANIZER: A.J. Billig & Company auction 
DESCRIPTION: Two Story Brick Townhome  2017-11-16 11:40:00 - 2017-11-16 11:50:00
URL;VALUE=URI:https://ajbillig.com/?p=56960
END:VEVENT
END:VCALENDAR
