BEGIN:VCALENDAR
VERSION:2.0
PRODID:-//AJ Billig //NONSGML Events //EN
CALSCALE:GREGORIAN
BEGIN:VEVENT
DTSTART:20171109T160000Z
DTEND:20171109T160000Z
UID:56900
DTSTAMP:20171109T160000Z
LOCATION:8611 Church Lane\,Randallstown\,MD\,21133
SUMMARY: A.J. Billig & Company auction:   "Randallstown"
ORGANIZER: A.J. Billig & Company auction 
DESCRIPTION: Bungalow & Annex Building
On 0.55+/- Acre  2017-11-09 10:50:00 - 2017-11-09 11:00:00
URL;VALUE=URI:https://ajbillig.com/?p=56900
END:VEVENT
END:VCALENDAR
