BEGIN:VCALENDAR
VERSION:2.0
PRODID:-//AJ Billig //NONSGML Events //EN
CALSCALE:GREGORIAN
BEGIN:VEVENT
DTSTART:20171017T160000Z
DTEND:20171017T160000Z
UID:56647
DTSTAMP:20171017T160000Z
LOCATION:2554 Arunah Avenue\,Baltimore\,MD\,21216
SUMMARY: A.J. Billig & Company auction:   "Evergreen Lawn" - Receiver's Auction
ORGANIZER: A.J. Billig & Company auction 
DESCRIPTION: Two story end townhome. - Requiring Renovation  2017-10-17 10:50:00 - 2017-10-17 11:00:00
URL;VALUE=URI:https://ajbillig.com/?p=56647
END:VEVENT
END:VCALENDAR
