BEGIN:VCALENDAR
VERSION:2.0
PRODID:-//AJ Billig //NONSGML Events //EN
CALSCALE:GREGORIAN
BEGIN:VEVENT
DTSTART:20171017T160000Z
DTEND:20171017T160000Z
UID:56639
DTSTAMP:20171017T160000Z
LOCATION:2221 Callow Avenue\,Baltimore\,MD\,21217
SUMMARY: A.J. Billig & Company auction:   "Reservoir Hill Historic District" - Receiver's Auction
ORGANIZER: A.J. Billig & Company auction 
DESCRIPTION: Three story brick inside-group townhome. - Requiring Renovation  2017-10-17 10:50:00 - 2017-10-17 11:00:00
URL;VALUE=URI:https://ajbillig.com/?p=56639
END:VEVENT
END:VCALENDAR
