BEGIN:VCALENDAR
VERSION:2.0
PRODID:-//AJ Billig //NONSGML Events //EN
CALSCALE:GREGORIAN
BEGIN:VEVENT
DTSTART:20171017T160000Z
DTEND:20171017T160000Z
UID:56637
DTSTAMP:20171017T160000Z
LOCATION:3100 Chelsea Terrace\,Baltimore\,MD\,21216
SUMMARY: A.J. Billig & Company auction:   "Concerned Citizens of Forest Park" - Receiver's Auction
ORGANIZER: A.J. Billig & Company auction 
DESCRIPTION: Two and one-half story traditional home. - Requiring Renovation  2017-10-17 10:50:00 - 2017-10-17 11:00:00
URL;VALUE=URI:https://ajbillig.com/?p=56637
END:VEVENT
END:VCALENDAR
