BEGIN:VCALENDAR
VERSION:2.0
PRODID:-//AJ Billig //NONSGML Events //EN
CALSCALE:GREGORIAN
BEGIN:VEVENT
DTSTART:20171017T160000Z
DTEND:20171017T160000Z
UID:56527
DTSTAMP:20171017T160000Z
LOCATION:1800 Letitia Avenue\,Baltimore\,MD\,21230
SUMMARY: A.J. Billig & Company auction:   "Morrell Park" - Receiver's Auction
ORGANIZER: A.J. Billig & Company auction 
DESCRIPTION: Two story semi-detached shingle home. - Requiring Renovation  2017-10-17 10:50:00 - 2017-10-17 11:00:00
URL;VALUE=URI:https://ajbillig.com/?p=56527
END:VEVENT
END:VCALENDAR
