BEGIN:VCALENDAR
VERSION:2.0
PRODID:-//AJ Billig //NONSGML Events //EN
CALSCALE:GREGORIAN
BEGIN:VEVENT
DTSTART:20180111T160000Z
DTEND:20180111T160000Z
UID:56407
DTSTAMP:20180111T160000Z
LOCATION:8609 Mulberry Street\,Laurel\,MD\,20707
SUMMARY: A.J. Billig & Company auction:   "Laurel - Oak Crest"
ORGANIZER: A.J. Billig & Company auction 
DESCRIPTION: Ranch Home on 0.60 +/- Acre
Subdivision Potential  2018-01-11 10:50:00 - 2018-01-11 11:00:00
URL;VALUE=URI:https://ajbillig.com/?p=56407
END:VEVENT
END:VCALENDAR
