BEGIN:VCALENDAR
VERSION:2.0
PRODID:-//AJ Billig //NONSGML Events //EN
CALSCALE:GREGORIAN
BEGIN:VEVENT
DTSTART:20180306T160000Z
DTEND:20180306T160000Z
UID:55909
DTSTAMP:20180306T160000Z
LOCATION:\,Baltimore\,MD\,
SUMMARY: A.J. Billig & Company auction:   5 - Baltimore City Vacant Properties
ORGANIZER: A.J. Billig & Company auction 
DESCRIPTION: 518 N. Patterson Park Avenue, "Care", 21205
522 N. Patterson Park Avenue, "Care", 21205
2251 McElderry Street, "Care". 21205
1308 W. Lombard Street, "Union Square", 21223
19 S. Carey Street, "Hollins Market", 21223  2018-03-06 10:50:00 - 2018-03-06 11:00:00
URL;VALUE=URI:https://ajbillig.com/?p=55909
END:VEVENT
END:VCALENDAR
