BEGIN:VCALENDAR
VERSION:2.0
PRODID:-//AJ Billig //NONSGML Events //EN
CALSCALE:GREGORIAN
BEGIN:VEVENT
DTSTART:20180306T160000Z
DTEND:20180306T160000Z
UID:55445
DTSTAMP:20180306T160000Z
LOCATION:518 N. Patterson Park Avenue\,Baltimore\,MD\,21205
SUMMARY: A.J. Billig & Company auction:   "Care"
ORGANIZER: A.J. Billig & Company auction 
DESCRIPTION: One story brick garage building  2018-03-06 10:50:00 - 2018-03-06 11:00:00
URL;VALUE=URI:https://ajbillig.com/?p=55445
END:VEVENT
END:VCALENDAR
