BEGIN:VCALENDAR
VERSION:2.0
PRODID:-//AJ Billig //NONSGML Events //EN
CALSCALE:GREGORIAN
BEGIN:VEVENT
DTSTART:20180518T160000Z
DTEND:20180518T160000Z
UID:55208
DTSTAMP:20180518T160000Z
LOCATION:537 W. High Street\,Chestertown\,MD\,21620
SUMMARY: A.J. Billig & Company auction:   "Chestertown"
ORGANIZER: A.J. Billig & Company auction 
DESCRIPTION: Two Story, Porchfront Colonial Home  2018-05-18 10:50:00 - 2018-05-18 11:00:00
URL;VALUE=URI:https://ajbillig.com/?p=55208
END:VEVENT
END:VCALENDAR
