BEGIN:VCALENDAR
VERSION:2.0
PRODID:-//AJ Billig //NONSGML Events //EN
CALSCALE:GREGORIAN
BEGIN:VEVENT
DTSTART:20180420T160000Z
DTEND:20180420T160000Z
UID:54907
DTSTAMP:20180420T160000Z
LOCATION:3700 Springdale Avenue\,Baltimore\,MD\,21216
SUMMARY: A.J. Billig & Company auction:   "Forest Park" - Receiver's Auction
ORGANIZER: A.J. Billig & Company auction 
DESCRIPTION: Three story vinyl-sided colonial home. - Requiring Renovation  2018-04-20 10:50:00 - 2018-04-20 11:00:00
URL;VALUE=URI:https://ajbillig.com/?p=54907
END:VEVENT
END:VCALENDAR
