BEGIN:VCALENDAR
VERSION:2.0
PRODID:-//AJ Billig //NONSGML Events //EN
CALSCALE:GREGORIAN
BEGIN:VEVENT
DTSTART:20180627T170000Z
DTEND:20180627T170000Z
UID:54786
DTSTAMP:20180627T170000Z
LOCATION:2932 Mosher Street\,Baltimore\,MD\,21216
SUMMARY: A.J. Billig & Company auction:   "Winchester"
ORGANIZER: A.J. Billig & Company auction 
DESCRIPTION: Two Story, Porchfront Brick Townhome  2018-06-27 11:50:00 - 2018-06-27 12:00:00
URL;VALUE=URI:https://ajbillig.com/?p=54786
END:VEVENT
END:VCALENDAR
