BEGIN:VCALENDAR
VERSION:2.0
PRODID:-//AJ Billig //NONSGML Events //EN
CALSCALE:GREGORIAN
BEGIN:VEVENT
DTSTART:20180626T160000Z
DTEND:20180626T160000Z
UID:54530
DTSTAMP:20180626T160000Z
LOCATION:436 E. 23rd Street\,Baltimore\,MD\,21218
SUMMARY: A.J. Billig & Company auction:   "Barclay" - Receiver's Auction
ORGANIZER: A.J. Billig & Company auction 
DESCRIPTION: Two story brick inside-group townhome. - Requiring Renovation  2018-06-26 10:50:00 - 2018-06-26 11:00:00
URL;VALUE=URI:https://ajbillig.com/?p=54530
END:VEVENT
END:VCALENDAR
