BEGIN:VCALENDAR
VERSION:2.0
PRODID:-//AJ Billig //NONSGML Events //EN
CALSCALE:GREGORIAN
BEGIN:VEVENT
DTSTART:20180626T160000Z
DTEND:20180626T160000Z
UID:54452
DTSTAMP:20180626T160000Z
LOCATION:528 E. 27th Street\,Baltimore\,MD\,21218
SUMMARY: A.J. Billig & Company auction:   "Better Waverly" - Receiver's Auction
ORGANIZER: A.J. Billig & Company auction 
DESCRIPTION: Two story brick inside-group shell townhome. - Requiring Renovation  2018-06-26 10:50:00 - 2018-06-26 11:00:00
URL;VALUE=URI:https://ajbillig.com/?p=54452
END:VEVENT
END:VCALENDAR
