BEGIN:VCALENDAR
VERSION:2.0
PRODID:-//AJ Billig //NONSGML Events //EN
CALSCALE:GREGORIAN
BEGIN:VEVENT
DTSTART:20180808T170000Z
DTEND:20180808T170000Z
UID:54391
DTSTAMP:20180808T170000Z
LOCATION:24007 Mervell Dean Road\,Hollywood\,MD\,20636
SUMMARY: A.J. Billig & Company auction:   "Hollywood - Saint Mary's County"
ORGANIZER: A.J. Billig & Company auction 
DESCRIPTION: Two Story Bungalow On 0.48 +/- Acre  2018-08-08 11:50:00 - 2018-08-08 12:00:00
URL;VALUE=URI:https://ajbillig.com/?p=54391
END:VEVENT
END:VCALENDAR
