BEGIN:VCALENDAR
VERSION:2.0
PRODID:-//AJ Billig //NONSGML Events //EN
CALSCALE:GREGORIAN
BEGIN:VEVENT
DTSTART:20180802T160000Z
DTEND:20180802T160000Z
UID:54339
DTSTAMP:20180802T160000Z
LOCATION:10 & 12 Frame Row Lane\,Elk Mills\,MD\,21920
SUMMARY: A.J. Billig & Company auction:   "Cecil County - Elk Mills"
ORGANIZER: A.J. Billig & Company auction 
DESCRIPTION: Two Adjoining Semi-Detached Homes  2018-08-02 10:50:00 - 2018-08-02 11:00:00
URL;VALUE=URI:https://ajbillig.com/?p=54339
END:VEVENT
END:VCALENDAR
