BEGIN:VCALENDAR
VERSION:2.0
PRODID:-//AJ Billig //NONSGML Events //EN
CALSCALE:GREGORIAN
BEGIN:VEVENT
DTSTART:20180920T190000Z
DTEND:20180920T190000Z
UID:54021
DTSTAMP:20180920T190000Z
LOCATION:9 Augusta Drive\,Elkton\,MD\,21921
SUMMARY: A.J. Billig & Company auction:   "Elkton"
ORGANIZER: A.J. Billig & Company auction 
DESCRIPTION: Split-Foyer Home
3 Bedrooms, 2.5 Baths  2018-09-20 13:50:00 - 2018-09-20 14:00:00
URL;VALUE=URI:https://ajbillig.com/?p=54021
END:VEVENT
END:VCALENDAR
