BEGIN:VCALENDAR
VERSION:2.0
PRODID:-//AJ Billig //NONSGML Events //EN
CALSCALE:GREGORIAN
BEGIN:VEVENT
DTSTART:20181004T170000Z
DTEND:20181004T170000Z
UID:53711
DTSTAMP:20181004T170000Z
LOCATION:2521 1/2 Snyder Road\,Edgemere\,MD\,21219
SUMMARY: A.J. Billig & Company auction:   "Edgemere"
ORGANIZER: A.J. Billig & Company auction 
DESCRIPTION: Bungalow on 0.13+/- Acre  2018-10-04 11:50:00 - 2018-10-04 12:00:00
URL;VALUE=URI:https://ajbillig.com/?p=53711
END:VEVENT
END:VCALENDAR
