BEGIN:VCALENDAR
VERSION:2.0
PRODID:-//AJ Billig //NONSGML Events //EN
CALSCALE:GREGORIAN
BEGIN:VEVENT
DTSTART:20181019T164500Z
DTEND:20181019T164500Z
UID:53366
DTSTAMP:20181019T164500Z
LOCATION:921 N. Bentalou Street\,Baltimore\,MD\,21216
SUMMARY: A.J. Billig & Company auction:   "West Baltimore - Bridgeview-Greenlawn"
ORGANIZER: A.J. Billig & Company auction 
DESCRIPTION: Two Story Townhome
3 Bedrooms & 2 Baths  2018-10-19 11:35:00 - 2018-10-19 11:45:00
URL;VALUE=URI:https://ajbillig.com/?p=53366
END:VEVENT
END:VCALENDAR
