BEGIN:VCALENDAR
VERSION:2.0
PRODID:-//AJ Billig //NONSGML Events //EN
CALSCALE:GREGORIAN
BEGIN:VEVENT
DTSTART:20190212T160000Z
DTEND:20190212T160000Z
UID:52929
DTSTAMP:20190212T160000Z
LOCATION:1041 W. Lanvale Street\,Baltimore\,MD\,21217
SUMMARY: A.J. Billig & Company auction:   "Harlem Park" - Receiver's Auction
ORGANIZER: A.J. Billig & Company auction 
DESCRIPTION: Three story brick inside-group townhome. - Requiring Renovation  2019-02-12 10:50:00 - 2019-02-12 11:00:00
URL;VALUE=URI:https://ajbillig.com/?p=52929
END:VEVENT
END:VCALENDAR
