BEGIN:VCALENDAR
VERSION:2.0
PRODID:-//AJ Billig //NONSGML Events //EN
CALSCALE:GREGORIAN
BEGIN:VEVENT
DTSTART:20181009T160000Z
DTEND:20181009T160000Z
UID:52684
DTSTAMP:20181009T160000Z
LOCATION:503 E. 21st Street\,Baltimore\,MD\,21218
SUMMARY: A.J. Billig & Company auction:   "Barclay - East Baltimore Midway" - Receiver's Auction
ORGANIZER: A.J. Billig & Company auction 
DESCRIPTION: Three story brick end-of-group townhome. - Requiring Renovation  2018-10-09 10:50:00 - 2018-10-09 11:00:00
URL;VALUE=URI:https://ajbillig.com/?p=52684
END:VEVENT
END:VCALENDAR
