BEGIN:VCALENDAR
VERSION:2.0
PRODID:-//AJ Billig //NONSGML Events //EN
CALSCALE:GREGORIAN
BEGIN:VEVENT
DTSTART:20181113T160000Z
DTEND:20181113T160000Z
UID:52650
DTSTAMP:20181113T160000Z
LOCATION:1107 Poplar Grove Street\,Baltimore\,MD\,21216
SUMMARY: A.J. Billig & Company auction:   "Winchester"
ORGANIZER: A.J. Billig & Company auction 
DESCRIPTION: Assisted Living Facility  2018-11-13 10:50:00 - 2018-11-13 11:00:00
URL;VALUE=URI:https://ajbillig.com/?p=52650
END:VEVENT
END:VCALENDAR
