BEGIN:VCALENDAR
VERSION:2.0
PRODID:-//AJ Billig //NONSGML Events //EN
CALSCALE:GREGORIAN
BEGIN:VEVENT
DTSTART:20181009T160000Z
DTEND:20181009T160000Z
UID:52570
DTSTAMP:20181009T160000Z
LOCATION:888 1/2 W. Lombard Street\,Baltimore\,MD\,21201
SUMMARY: A.J. Billig & Company auction:   "Hollins Market" - Receiver's Auction
ORGANIZER: A.J. Billig & Company auction 
DESCRIPTION: Two story semi-detached home. - Requiring Renovation  2018-10-09 10:50:00 - 2018-10-09 11:00:00
URL;VALUE=URI:https://ajbillig.com/?p=52570
END:VEVENT
END:VCALENDAR
