BEGIN:VCALENDAR
VERSION:2.0
PRODID:-//AJ Billig //NONSGML Events //EN
CALSCALE:GREGORIAN
BEGIN:VEVENT
DTSTART:20190206T160000Z
DTEND:20190206T160000Z
UID:52309
DTSTAMP:20190206T160000Z
LOCATION:218 N. Montford Avenue\,Baltimore\,MD\,21224
SUMMARY: A.J. Billig & Company auction:   Buy It Now: $130,000 - "Patterson Place -East Monument Historic District"
ORGANIZER: A.J. Billig & Company auction 
DESCRIPTION: Three Story Townhome  2019-02-06 10:50:00 - 2019-02-06 11:00:00
URL;VALUE=URI:https://ajbillig.com/?p=52309
END:VEVENT
END:VCALENDAR
