BEGIN:VCALENDAR
VERSION:2.0
PRODID:-//AJ Billig //NONSGML Events //EN
CALSCALE:GREGORIAN
BEGIN:VEVENT
DTSTART:20181211T160000Z
DTEND:20181211T160000Z
UID:52249
DTSTAMP:20181211T160000Z
LOCATION:2526 N. Ellamont Street\,Baltimore\,MD\,21216
SUMMARY: A.J. Billig & Company auction:   "Hanlon - Longwood" - Receiver's Auction
ORGANIZER: A.J. Billig & Company auction 
DESCRIPTION: Two story semi-detached home. - Requiring Renovation  2018-12-11 10:50:00 - 2018-12-11 11:00:00
URL;VALUE=URI:https://ajbillig.com/?p=52249
END:VEVENT
END:VCALENDAR
