BEGIN:VCALENDAR
VERSION:2.0
PRODID:-//AJ Billig //NONSGML Events //EN
CALSCALE:GREGORIAN
BEGIN:VEVENT
DTSTART:20181211T160000Z
DTEND:20181211T160000Z
UID:52247
DTSTAMP:20181211T160000Z
LOCATION:2915 Erdman Avenue\,Baltimore\,MD\,21213
SUMMARY: A.J. Billig & Company auction:   "Belair - Edison" - Receiver's Auction
ORGANIZER: A.J. Billig & Company auction 
DESCRIPTION: Two story brick inside-group townhome. - Requiring Renovation  2018-12-11 10:50:00 - 2018-12-11 11:00:00
URL;VALUE=URI:https://ajbillig.com/?p=52247
END:VEVENT
END:VCALENDAR
