BEGIN:VCALENDAR
VERSION:2.0
PRODID:-//AJ Billig //NONSGML Events //EN
CALSCALE:GREGORIAN
BEGIN:VEVENT
DTSTART:20190212T160000Z
DTEND:20190212T160000Z
UID:51707
DTSTAMP:20190212T160000Z
LOCATION:413 N. Glover Street\,Baltimore\,MD\,21224
SUMMARY: A.J. Billig & Company auction:   "McElderry Park" - Receiver's Auction
ORGANIZER: A.J. Billig & Company auction 
DESCRIPTION: Two story brick inside-group shell townhome. - Requiring Renovation  2019-02-12 10:50:00 - 2019-02-12 11:00:00
URL;VALUE=URI:https://ajbillig.com/?p=51707
END:VEVENT
END:VCALENDAR
