BEGIN:VCALENDAR
VERSION:2.0
PRODID:-//AJ Billig //NONSGML Events //EN
CALSCALE:GREGORIAN
BEGIN:VEVENT
DTSTART:20190424T160000Z
DTEND:20190424T160000Z
UID:51573
DTSTAMP:20190424T160000Z
LOCATION:3603\, 3605\, 3607\, & 3628 5th Street\,Baltimore\,MD\,21225
SUMMARY: A.J. Billig & Company auction:   "Brooklyn"
ORGANIZER: A.J. Billig & Company auction 
DESCRIPTION: 4 - Rental Properties  2019-04-24 10:50:00 - 2019-04-24 11:00:00
URL;VALUE=URI:https://ajbillig.com/?p=51573
END:VEVENT
END:VCALENDAR
