BEGIN:VCALENDAR
VERSION:2.0
PRODID:-//AJ Billig //NONSGML Events //EN
CALSCALE:GREGORIAN
BEGIN:VEVENT
DTSTART:20190626T190000Z
DTEND:20190626T190000Z
UID:51126
DTSTAMP:20190626T190000Z
LOCATION:2236 Bank Street\,Baltimore\,MD\,21231
SUMMARY: A.J. Billig & Company auction:   Buy It Now: $170,000 - "Upper Fells Point"
ORGANIZER: A.J. Billig & Company auction 
DESCRIPTION: Two Story Townhome  2019-06-26 13:50:00 - 2019-06-26 14:00:00
URL;VALUE=URI:https://ajbillig.com/?p=51126
END:VEVENT
END:VCALENDAR
