BEGIN:VCALENDAR
VERSION:2.0
PRODID:-//AJ Billig //NONSGML Events //EN
CALSCALE:GREGORIAN
BEGIN:VEVENT
DTSTART:20190801T170000Z
DTEND:20190801T170000Z
UID:51031
DTSTAMP:20190801T170000Z
LOCATION:1681 Grandview Road\,Pasadena\,MD\,21122
SUMMARY: A.J. Billig & Company auction:   Buy It Now: $499,000 - "Pasadena - Long Point on the Magothy"
ORGANIZER: A.J. Billig & Company auction 
DESCRIPTION: Waterfront Home
3,065 +/- Sq. Ft. on 0.45 +/- Acre
Pier, Boathouse, Outbuildings  2019-08-01 11:50:00 - 2019-08-01 12:00:00
URL;VALUE=URI:https://ajbillig.com/?p=51031
END:VEVENT
END:VCALENDAR
