BEGIN:VCALENDAR
VERSION:2.0
PRODID:-//AJ Billig //NONSGML Events //EN
CALSCALE:GREGORIAN
BEGIN:VEVENT
DTSTART:20191212T171500Z
DTEND:20191212T171500Z
UID:49720
DTSTAMP:20191212T171500Z
LOCATION:1028 Rock Hill Avenue & Lot: Block 7654A Lot 101\,Baltimore\,MD\,21229
SUMMARY: A.J. Billig & Company auction:   "Violetville"
ORGANIZER: A.J. Billig & Company auction 
DESCRIPTION: Two Story Townhome
& Residential Lot  2019-12-12 12:05:00 - 2019-12-12 12:15:00
URL;VALUE=URI:https://ajbillig.com/?p=49720
END:VEVENT
END:VCALENDAR
