BEGIN:VCALENDAR
VERSION:2.0
PRODID:-//AJ Billig //NONSGML Events //EN
CALSCALE:GREGORIAN
BEGIN:VEVENT
DTSTART:20200721T160000Z
DTEND:20200721T160000Z
UID:48595
DTSTAMP:20200721T160000Z
LOCATION:335 E. 21st Street\,Baltimore\,MD\,21218
SUMMARY: A.J. Billig & Company auction:   "Barclay" - Receiver's Auction
ORGANIZER: A.J. Billig & Company auction 
DESCRIPTION: Two story brick inside-group townhome. - Requiring Renovation  2020-07-21 10:50:00 - 2020-07-21 11:00:00
URL;VALUE=URI:https://ajbillig.com/?p=48595
END:VEVENT
END:VCALENDAR
