BEGIN:VCALENDAR
VERSION:2.0
PRODID:-//AJ Billig //NONSGML Events //EN
CALSCALE:GREGORIAN
BEGIN:VEVENT
DTSTART:20200721T163000Z
DTEND:20200721T163000Z
UID:48571
DTSTAMP:20200721T163000Z
LOCATION:3801 W. Cold Spring Lane\,Baltimore\,MD\,21215
SUMMARY: A.J. Billig & Company auction:   "Callaway-Garrison" - Receiver's Auction
ORGANIZER: A.J. Billig & Company auction 
DESCRIPTION: Two story porchfront home. - Requiring Renovation  2020-07-21 11:20:00 - 2020-07-21 11:30:00
URL;VALUE=URI:https://ajbillig.com/?p=48571
END:VEVENT
END:VCALENDAR
