BEGIN:VCALENDAR
VERSION:2.0
PRODID:-//AJ Billig //NONSGML Events //EN
CALSCALE:GREGORIAN
BEGIN:VEVENT
DTSTART:20200721T171500Z
DTEND:20200721T171500Z
UID:48553
DTSTAMP:20200721T171500Z
LOCATION:2501 W. Lafayette Avenue\,Baltimore\,MD\,21216
SUMMARY: A.J. Billig & Company auction:   "Bridgeview-Greenlawn" - Receiver's Auction
ORGANIZER: A.J. Billig & Company auction 
DESCRIPTION: Two story brick end-of-group townhome - Requiring Renovation  2020-07-21 12:05:00 - 2020-07-21 12:15:00
URL;VALUE=URI:https://ajbillig.com/?p=48553
END:VEVENT
END:VCALENDAR
